BEGIN:VCALENDAR
VERSION:2.0
PRODID:-//ChiVibe — The Local Event &amp; Collab Network - ECPv6.15.17//NONSGML v1.0//EN
CALSCALE:GREGORIAN
METHOD:PUBLISH
X-WR-CALNAME:ChiVibe — The Local Event &amp; Collab Network
X-ORIGINAL-URL:https://chivibe.com
X-WR-CALDESC:Events for ChiVibe — The Local Event &amp; Collab Network
REFRESH-INTERVAL;VALUE=DURATION:PT1H
X-Robots-Tag:noindex
X-PUBLISHED-TTL:PT1H
BEGIN:VTIMEZONE
TZID:America/Chicago
BEGIN:DAYLIGHT
TZOFFSETFROM:-0600
TZOFFSETTO:-0500
TZNAME:CDT
DTSTART:20250309T080000
END:DAYLIGHT
BEGIN:STANDARD
TZOFFSETFROM:-0500
TZOFFSETTO:-0600
TZNAME:CST
DTSTART:20251102T070000
END:STANDARD
BEGIN:DAYLIGHT
TZOFFSETFROM:-0600
TZOFFSETTO:-0500
TZNAME:CDT
DTSTART:20260308T080000
END:DAYLIGHT
BEGIN:STANDARD
TZOFFSETFROM:-0500
TZOFFSETTO:-0600
TZNAME:CST
DTSTART:20261101T070000
END:STANDARD
BEGIN:DAYLIGHT
TZOFFSETFROM:-0600
TZOFFSETTO:-0500
TZNAME:CDT
DTSTART:20270314T080000
END:DAYLIGHT
BEGIN:STANDARD
TZOFFSETFROM:-0500
TZOFFSETTO:-0600
TZNAME:CST
DTSTART:20271107T070000
END:STANDARD
END:VTIMEZONE
BEGIN:VEVENT
DTSTART;TZID=America/Chicago:20260221T220000
DTEND;TZID=America/Chicago:20260222T050000
DTSTAMP:20260419T074804
CREATED:20260221T230134Z
LAST-MODIFIED:20260221T230135Z
UID:10000229-1771711200-1771736400@chivibe.com
SUMMARY:CULTURE CLASH 2.0
DESCRIPTION:CHCAGO’S ONLY SOUTH ASIAN MARDI GRAS MASQUERADE BALL\n\n\n\nChicago\, Get ready for a night to celebrate Mardi Gras with a Global Flavor\n \nCulture Clash series is back with 2.0 – The Mardi Gras Masquerade Ball \nIt is not just a party—it’s a fusion of American pride & heritage of Mardi Gras with world cultures and music along with future sounds. \nDesivibes Productions & The Global Sound Collective – two of the popular production houses in the nation\, based out of LA\, in collaboration with Raunak Entertainment and Vadali Productions from Chicago\, are bringing together the rhythmic soul of the Indian subcontinent\, the Middle East and the pulse of the global underground under one roof. And this multi-cultural\, multi demographic celebartion shall be presented to you at one of Chicago’s top Tier1 venues – ELECTRIC HOTEL NIGHTCLUB!!! \nThis is not your regular Bollywood Party. This is an overnight journey\, that you will remember and come back for more again. We mentioned overnight!!! We are the ONLY Desi event that goes till dawn in Chicago – YES\, you read it right\, till 5AM!!! \nAND DO NOT MISS THE BEST PART – GIRLS GET DISCOUNTED TICKETS (**Get yours while tickets last or until the sale deadline ends!!!) \nExperience a seamless journey from the vibrant streets of The French Quarters\, Mumbai\, Cairo\, Dubai to the deep afro house lounges of Johannesburg\, and the underground warehouses of London. This is where tradition meets the 808!!! \nIs it your B’day month?? Celebrate with us at the event\, and let us know on IG after you purchase your tickets\, we will do a special shoutout for you and your crew!!! \nThe Sonic Experience\nPrepare your senses for a multi-genre takeover. We’ve curated a lineup that bridges the gap between East and West: \n\nBollywood & Bhangra Anthems: High-energy Desi bangers remixed for the modern dancefloor.\nAfro House & Amapiano: Deep\, percussive rhythms that connect you to the South Asian & Middle Eastern roots.\nGlobal EDM & House: Big-room energy infused with South Asian melodies and progressions.\nHip-Hop & Desi Trill: The heaviest basslines meeting global flow.\n\nThe Lineup: 6 Artists\, 1 Stage\nWe’ve assembled a fun\, awesome team of 6DJs—each bringing their own styles with their craft—to guide you through this worldly experience: \n🎧 DJ KA$H  \n🎧 DJ YESH  \n🎧 DJ SAJAN VADALI  \n🎧 DJ ALADDIN  \n🎧 DJ ANOKHA  \n🎧 AND FEATURING OUR GUEST DJ FN¨¨¨¨¨¨U  \nFNÜ is one of the more popular up and coming DJs of this generation in the South Asian Nightlife scene in the midwest\, with a following that is growing day by day with her captivating music and sets. Read more about her and our other DJs in the profiles section to learn more about their music & contribution to the Nightlife Entertainment Scene. We appreciate if you follow us on IG\, as we continue to produce more music and share with the community. \nThe Atmosphere\n\nAudio-Visual Experience: Immerse yourself in one of Chicago’s top tier nightclubs with an amazing sound system along with impactful lighting setup\, that generate an energy and an experience that will make you not stop dancing all night.\nAmazing Cocktails: Sip on culture-infused drinks\, made with choices of top shelf liquors\, and if you prefer to do something more exclusive then discounted VIP Bottle Services.\n\nEvent Details\n\nDate: Sat\, Feb 21st \nTime: 10:00 PM – 5:00 AM \nLocation: ELECTRIC HOTEL\, 222 W Ontario St\, Chicago IL \nDress Code: Global Chic – Wear your heritage\, or dress to dance. This is a Mardi Gras themed event\, so we encourage bright\, festive colors\, ornaments\, masks. FIRST 150 GUESTS SHALL RECEIVE A COMPLIMENTARY MASK(as long as supplies last). Feel free to deck out in your favorite mask if you wish. \n\nTickets are moving fast. Don’t miss the event that everyone will be talking about the next morning on social media. \n🎟TICKETS \n🎫 FIRST 50 WOMEN FREE!!! (ONLY WITH RSVP TICKETS PURCHASED) \n🎫 LADIES GET DISCOUNTED TICKETS (FOR A LIMITED SALE PERIOD\, BUY YOURS ASAP) \n🎫 SPECIAL PROMO TICKETS: Follow us on IG @DESIVIBESPRODUCTIONS. We shall release small batches of FREE tickets on promo basis. You will get VIP Entrance Access to the event with these tickets. \n🚀 VIP Admission Available: For an additional price on the General Admission\, Skip the line. \n👯‍♀️ Group Discounts – DM for Specials \n🍾 Limited VIP Tables with Bottle Service – We have AMAZING ALL INCLUSIVE packages\, DM for Specials \n🔞 AGE & ID POLICY \n21+ only | Valid physical ID required(State ID\, Driver’s License\, or Passport – no photos or digital copies) \n💃🕺 DRESS CODE: \nAll guests entering the venue are expected to adhere to our dress code. This policy applies to all patrons\, including those with tickets or table reservations—no exceptions. \n🚫 Please Note: The following items are NOT permitted: \n\nSandals or Open toed shoes (for gentlemen)\nHats\, Jerseys or Athletic attire\nSweatpants of any kind\nShorts\nPuffer Jackets or Hoodies on Dance Floor (Coat Check Available)\nTank Tops (for Gentlemen)\nEVENT THEME: MARDI GRAS\, SO ORNAMENTS & MASKS WELCOME\nLadies: Unleash your inner diva! Think elegant cocktail dresses\, stylish gowns\, chic separates\, or glamorous Indo-Western attire.\nGentlemen: Dress to impress! Collared shirts\, stylish trousers\, smart jeans paired with blazers or dress shirts are always a hit\, especially with the women!\n\n \nWe can’t wait to get this event started and party with all of you on this amazing journey. \nGet your tickets now!! \n📞 QUESTIONS / GROUP TICKETS/ VIP BOOKINGS \nCall/Text/WhatsApp: (310)560-3411 | (630)534-0632 \n🚫 REFUND POLICY \nAll sales final. No refunds. Tickets are non-refundable under any circumstances
URL:https://chivibe.com/event/culture-clash-2-0/
LOCATION:Electric Hotel\, 222 West Ontario Street\, Chicago\, IL\, 60654\, United States
ATTACH;FMTTYPE=image/jpeg:https://chivibe.com/wp-content/uploads/2026/02/fbe8e1fff9f1bfb3180c02f49fab3738-BjPAAb.tmp_.jpg
END:VEVENT
END:VCALENDAR