BEGIN:VCALENDAR
VERSION:2.0
PRODID:-//ChiVibe — The Local Event &amp; Collab Network - ECPv6.15.17//NONSGML v1.0//EN
CALSCALE:GREGORIAN
METHOD:PUBLISH
X-ORIGINAL-URL:https://chivibe.com
X-WR-CALDESC:Events for ChiVibe — The Local Event &amp; Collab Network
REFRESH-INTERVAL;VALUE=DURATION:PT1H
X-Robots-Tag:noindex
X-PUBLISHED-TTL:PT1H
BEGIN:VTIMEZONE
TZID:America/Chicago
BEGIN:DAYLIGHT
TZOFFSETFROM:-0600
TZOFFSETTO:-0500
TZNAME:CDT
DTSTART:20250309T080000
END:DAYLIGHT
BEGIN:STANDARD
TZOFFSETFROM:-0500
TZOFFSETTO:-0600
TZNAME:CST
DTSTART:20251102T070000
END:STANDARD
BEGIN:DAYLIGHT
TZOFFSETFROM:-0600
TZOFFSETTO:-0500
TZNAME:CDT
DTSTART:20260308T080000
END:DAYLIGHT
BEGIN:STANDARD
TZOFFSETFROM:-0500
TZOFFSETTO:-0600
TZNAME:CST
DTSTART:20261101T070000
END:STANDARD
BEGIN:DAYLIGHT
TZOFFSETFROM:-0600
TZOFFSETTO:-0500
TZNAME:CDT
DTSTART:20270314T080000
END:DAYLIGHT
BEGIN:STANDARD
TZOFFSETFROM:-0500
TZOFFSETTO:-0600
TZNAME:CST
DTSTART:20271107T070000
END:STANDARD
END:VTIMEZONE
BEGIN:VEVENT
DTSTART;TZID=America/Chicago:20260214T210000
DTEND;TZID=America/Chicago:20260215T010000
DTSTAMP:20260419T095029
CREATED:20260221T230938Z
LAST-MODIFIED:20260221T230939Z
UID:10000232-1771102800-1771117200@chivibe.com
SUMMARY:Old Crow's Anti-Valentine's Day Party
DESCRIPTION:Tix include a drink\, a shot\, LIVE country music & more! No better way to spend Valentine’s Day than partying it up in Wrigley!\n\n\nOn a night filled with all the lovey-dovey hype\, we’re flipping the script and throwing the ultimate Anti-Valentine’s Day party at Old Crow! Grab your favorite people and head to the hottest bar in Wrigleyville! \nWhether you’re newly single\, happily taken\, or just here for a good time\, you can always find a reason to celebrate on this Hallmark holiday. Forget the pressure of the holiday and let’s drink the night away!  \n\n\n\nWHAT’S INCLUDED: Tickets include a drink before 10pm\, a shot before 11pm\, LIVE country music & more! No better way to spend Valentine’s Day than partying it up in Wrigley! \nFREE TICKETS/RAISE MONEY FOR YOUR CAUSE: See below for more info. \n\n\n\nFREE STUFF: Get Freebies* including: $5 in FREE food from DoorDash\, $30 from Rakuten\, $10 in FREE food from Ritual\, 25% off + free shipping from Blue Apron and more! Click HERE for more info. *All offers valid for first time users only and subject to change without notice. \nREASONS TO BUY EARLY: In addition to getting tickets at a lower price\, those who purchase early will also receive free tickets and/or deeply discounted tickets to future events. \nPHOTO/CONTENT CONTEST: Enter to win by tagging us on Instagram (@Chi20Something) or Tiktok (@Chicago20Something). Our panel of judges will go through the pictures and winners will be contacted afterward! Prizes include tickets to bar crawls\, party cruises on Lake Michigan\, wine tastings\, martini tastings and more! \n\n\n\nSPONSORSHIP & VENDOR OPPORTUNITIES: For questions\, sponsorship/vendor opportunities\, and press inquiries\, please fill out the form HERE. \nFREE TICKETS/RAISE MONEY FOR YOUR CAUSE: \n\nFundraising Opportunity: Are you trying to raise money for a certain cause? Email Info@Chicago20Something.com for more info!\nCelebrate your birthday at the event and your ticket is free! Email Birthdays@Chicago20Something.com for more info (conditions apply).\nWant to earn a free ticket and some cash for spreading the word? Email Ambassadors@Chicago20Something.com for more info!\nWe’ve got tons of other ways to earn free tickets! Click HERE for more information!\n\nCAN’T FIND YOUR TICKET? Click here. \nWORK WITH US: Interested in meeting new people while having fun running the best events in Chicago? Email EventStaff@Chicago20Something.com. \n\n\nRules\, Regulations & Disclaimers: \nAll guests must be 21+ with a valid government issued ID that will be checked by security prior to entrance. Enjoy responsibly. We reserve the right to curtail service to anyone if intoxicated. Please be aware that this event will comply with the Illinois Liquor Control Act 235 ILCS 5/6-16(a) A valid ticket with scannable QR code is required by all guests to enter event. There is no guest list. Each ticket must be scanned. Security reserves the right to inspect all bags and persons. Absolutely no outside food or beverage may be brought into the event. Guests who are deemed intoxicated (or otherwise unfit)\, will be denied entry and no refunds will be given. We want all guests to enjoy themselves\, but our number one priority is the safety of all guests. Any ticketing/technical issues will be handled by Eventbrite.com. Please contact them directly at https://www.eventbrite.com/contact-us/. Sorry – no refunds or price adjustments. The Eventbrite system does not allow us to restrict people who are underage from buying tickets. If you are not 21 and purchase a ticket\, you will not be allowed into the event. For further Terms and Conditions of this event and ticket purchase please see “Ticket Purchase and Event Terms and Conditions” in checkout before purchasing these tickets; which shall also be binding and shall be incorporated by reference as though fully stated herein.
URL:https://chivibe.com/event/old-crows-anti-valentines-day-party/
LOCATION:Old Crow Smokehouse\, 3506 N. Clark\, Chicago\, IL\, 60657\, United States
ATTACH;FMTTYPE=image/jpeg:https://chivibe.com/wp-content/uploads/2026/02/cbc9bed3f72909785cd750d545d36c1c-1RUPgJ.tmp_.jpg
END:VEVENT
END:VCALENDAR