BEGIN:VCALENDAR
VERSION:2.0
PRODID:-//ChiVibe — The Local Event &amp; Collab Network - ECPv6.15.17//NONSGML v1.0//EN
CALSCALE:GREGORIAN
METHOD:PUBLISH
X-ORIGINAL-URL:https://chivibe.com
X-WR-CALDESC:Events for ChiVibe — The Local Event &amp; Collab Network
REFRESH-INTERVAL;VALUE=DURATION:PT1H
X-Robots-Tag:noindex
X-PUBLISHED-TTL:PT1H
BEGIN:VTIMEZONE
TZID:America/Chicago
BEGIN:DAYLIGHT
TZOFFSETFROM:-0600
TZOFFSETTO:-0500
TZNAME:CDT
DTSTART:20250309T080000
END:DAYLIGHT
BEGIN:STANDARD
TZOFFSETFROM:-0500
TZOFFSETTO:-0600
TZNAME:CST
DTSTART:20251102T070000
END:STANDARD
BEGIN:DAYLIGHT
TZOFFSETFROM:-0600
TZOFFSETTO:-0500
TZNAME:CDT
DTSTART:20260308T080000
END:DAYLIGHT
BEGIN:STANDARD
TZOFFSETFROM:-0500
TZOFFSETTO:-0600
TZNAME:CST
DTSTART:20261101T070000
END:STANDARD
BEGIN:DAYLIGHT
TZOFFSETFROM:-0600
TZOFFSETTO:-0500
TZNAME:CDT
DTSTART:20270314T080000
END:DAYLIGHT
BEGIN:STANDARD
TZOFFSETFROM:-0500
TZOFFSETTO:-0600
TZNAME:CST
DTSTART:20271107T070000
END:STANDARD
END:VTIMEZONE
BEGIN:VEVENT
DTSTART;TZID=America/Chicago:20260221T160000
DTEND;TZID=America/Chicago:20260221T220000
DTSTAMP:20260419T074928
CREATED:20260221T233623Z
LAST-MODIFIED:20260221T233624Z
UID:10000251-1771689600-1771711200@chivibe.com
SUMMARY:Chicago Margarita Crawl: Celebrating National Margarita Day!
DESCRIPTION:Tix include admission\, gift cards to use on the crawl\, margarita specials\, taco specials\, tequila specials & more! Let’s party!\n\n\nCRAWL SCHEDULE: You can check in and pick up your wristband and gift cards at any of the bars during their scheduled time below before 9pm. Please remember to bring your scannable QR Code ticket from Eventbrite. \n\n4pm-5:50pm: Moe’s Cantina River North – 155 W Kinzie\n6pm-7:50pm: Hubbard Inn’s 2nd Floor (Use side door entrance furthest east) – 110 W Hubbard\n8pm-10pm: Tree House – 149 W Kinzie\n\n*Please note: The first gift card expires at 6pm\, the second at 8pm\, the third at 10pm\, and check-in ends at 9pm \nWRISTBANDS: You MUST wear your wristband during the crawl! Please remember to bring your scannable QR Code ticket from Eventbrite in order to receive your wristband. \nDRINK/FOOD SPECIALS:* \n\nMoe’s Cantina River North: $8 Margaritas\, $5 House Tequila Shots\, $6 Angry Orchard\, $7 Sun Cruiser\, and $5 Tacos\nHubbard Inn: $12 Margaritas\, $8 Hornitos Reposado Tequila Shots\, $8 Jack Daniel’s\, and $5 Tacos\nTree House: $8 Margaritas\, $5 House Tequila Shots\, $6 Angry Orchard\, $7 Sun Cruiser\, and $5 Tacos\n\n*Specials subject to change \nPHOTO/CONTENT CONTEST: Enter to win by using #ChicagoMargaritaCrawl in your posts on Instagram\, Tiktok or Facebook. Our panel of judges will go through the pictures and videos and winners will be contacted afterward! Prizes include tickets to bar crawls\, party cruises on Lake Michigan\, wine tastings\, martini tastings and more! \n\n\nGet ready to raise your glass and celebrate National Margarita Day in the best way possible—by bar crawling through Chicago’s top bars with a margarita in hand!  \nJoin us for a day of delicious margarita and tequila specials\, mouthwatering taco deals and plenty of fun as we hop from bar to bar partying it up! Whether you’re a fan of classic lime or love to mix things up with fruity twists\, there’s a margarita (and taco!) for every taste. \nWHAT’S INCLUDED: \n\nAdmission to all bars on the ultimate margarita bar crawl\nGift Cards to use on the crawl (more margaritas = more fun!) \nMargarita Specials at every stop \nTaco & Tequila Deals to keep you fueled and feeling festive \n\nDon’t miss out on the best margarita party of the year—gather your crew\, get your tickets\, and get ready to sip\, savor\, and crawl your way through the city’s hottest spots. National Margarita Day is Sunday\, February 22nd and we’re going to party all day the day before in it’s honor! \nCheers to margaritas\, tacos\, and tequila!  \n\n\n\n\nFREE STUFF: Get Freebies* including: $5 in FREE food from DoorDash\, $30 from Rakuten\, $10 in FREE food from Ritual\, 25% off + free shipping from Blue Apron and more! Click HERE for more info. *All offers valid for first time users only and subject to change without notice. \nREASONS TO BUY EARLY: In addition to getting tickets at a lower price\, those who purchase early will also receive free tickets and/or deeply discounted tickets to future events. \nPHOTO/CONTENT CONTEST: Enter to win by using #ChicagoMargaritaCrawl in your posts on Instagram\, Tiktok or Facebook. Our panel of judges will go through the pictures and videos and winners will be contacted afterward! Prizes include tickets to bar crawls\, party cruises on Lake Michigan\, wine tastings\, martini tastings and more! \nSPECIAL THANKS TO OUR SPONSORS: Jack Daniels\, Angry Orchard & Sun Cruiser …this would not be possible without your support! \nSPONSORSHIP & VENDOR OPPORTUNITIES: For questions\, sponsorship/vendor opportunities\, and press inquiries\, please fill out the form HERE. \n\n\n\nWRISTBANDS: You MUST wear your wristband during the crawl! \nWORK WITH US: Interested in meeting new people while having fun running the best experiences in Chicago? Email EventStaff@ChicagoMargaritaCrawl.com. \nCAN’T FIND YOUR TICKET? Click here. \n\n\nRules\, Regulations\, & Disclaimers \nAll Guests must be 21+ with valid government issued ID. We will crawl rain or shine! NO REFUNDS! If you cannot find your ticket please contact Eventbrite.com directly\, please do NOT email us as there is nothing we can do. Must be 21 years old to participate; valid government issued ID required. Participating venues and advertised times are subject to change. Best Bar Crawls\, LLC promotes safety and urges all participants to drink responsibly. Participating venues reserve the right to refuse entry to guests who are deemed intoxicated (or otherwise unfit) upon arrival. No refunds will be given. Gift cards must be used for food in accordance with state and local liquor laws. No refunds. All sales are final. If a venue is at capacity then you may have to wait or proceed to another venue. Do not be late for registration. Prices are subject to change while supplies last. For further Terms and Conditions of this event and ticket purchase please see “Ticket Purchase and Event Terms and Conditions” in checkout before purchasing these tickets; which shall also be binding and shall be incorporated by reference as though fully stated herein. \n*Unfortunately the Eventbrite system does not allow us to restrict people who are underage from buying tickets. If you are not 21 and purchase a ticket\, you will not be allowed into the event.*
URL:https://chivibe.com/event/chicago-margarita-crawl-celebrating-national-margarita-day/
LOCATION:155 W Kinzie St\, 155 West Kinzie Street\, Chicago\, IL\, 60654\, United States
ATTACH;FMTTYPE=image/jpeg:https://chivibe.com/wp-content/uploads/2026/02/ced0000ceef44647a6c0ea7db5640d4c-lIVnrx.tmp_.jpg
END:VEVENT
END:VCALENDAR