BEGIN:VCALENDAR
VERSION:2.0
PRODID:-//ChiVibe — The Local Event &amp; Collab Network - ECPv6.15.17//NONSGML v1.0//EN
CALSCALE:GREGORIAN
METHOD:PUBLISH
X-ORIGINAL-URL:https://chivibe.com
X-WR-CALDESC:Events for ChiVibe — The Local Event &amp; Collab Network
REFRESH-INTERVAL;VALUE=DURATION:PT1H
X-Robots-Tag:noindex
X-PUBLISHED-TTL:PT1H
BEGIN:VTIMEZONE
TZID:America/Chicago
BEGIN:DAYLIGHT
TZOFFSETFROM:-0600
TZOFFSETTO:-0500
TZNAME:CDT
DTSTART:20250309T080000
END:DAYLIGHT
BEGIN:STANDARD
TZOFFSETFROM:-0500
TZOFFSETTO:-0600
TZNAME:CST
DTSTART:20251102T070000
END:STANDARD
BEGIN:DAYLIGHT
TZOFFSETFROM:-0600
TZOFFSETTO:-0500
TZNAME:CDT
DTSTART:20260308T080000
END:DAYLIGHT
BEGIN:STANDARD
TZOFFSETFROM:-0500
TZOFFSETTO:-0600
TZNAME:CST
DTSTART:20261101T070000
END:STANDARD
BEGIN:DAYLIGHT
TZOFFSETFROM:-0600
TZOFFSETTO:-0500
TZNAME:CDT
DTSTART:20270314T080000
END:DAYLIGHT
BEGIN:STANDARD
TZOFFSETFROM:-0500
TZOFFSETTO:-0600
TZNAME:CST
DTSTART:20271107T070000
END:STANDARD
END:VTIMEZONE
BEGIN:VEVENT
DTSTART;TZID=America/Chicago:20260222T180000
DTEND;TZID=America/Chicago:20260222T210000
DTSTAMP:20260419T074029
CREATED:20260222T004148Z
LAST-MODIFIED:20260222T004148Z
UID:10000279-1771783200-1771794000@chivibe.com
SUMMARY:Foodsprung’s Smash Sesh “Side Piece Edition”
DESCRIPTION:Come kick it & smash a curated spread of some of the best food Chicago has to offer! Good food\, music\, people\, & vibes in the air…\n\n\n“Foodsprung’s Smash Sesh” is a themed food event series showcasing some of the best restaurants/chefs/products in Chicago \n“Side Piece Edition” \nThis edition of Smash Sesh is a playful nod to Valentine’s Day. Come with your main\, side piece(s)\, friends or solo. We will be smashin’ one MAIN and hella motherfuckin’ SIDES… \nMENU: \n• Welcome glass of bubbly \n• Mushroom & Cheese Fritters (2 per person) \n• Beef Brisket Empanda (1 per person) \n• Smokey Wings (2 per person) \n• Wedge Salad (event exclusive) \n• Lamb Ribs (2 per person) *Main \n• Wagyu Ribs (1 per person) * Main \n• 5 Cheese Mac \n• Kale & Apple Slaw \n• Chocolate Layer Cake Jar \n• Macaron (event exclusive) \n• (Choom) from Hopewell Brewing \n• Optional Goodies (Redemption Botanicals\, Kush Queen\, Ouidly\, LadyBudz\, Culinary Canna Co) \n• Floral Arrangements (Bonnie Flower Shops) \n🎶Sounds by DJ Jackie Rob DMi \n*alcohol not included but drinks available for purchase \nMUST BE 21+ to attend \nLOCATION: West Town \nMs. Maya of @foodsprung is an artist\, content creator\, food personality & influencer. \nShe has spent the last 3 years hitting the Chicagoland food scene in search of the best. From her research she has curated a handpicked selection of restaurants & products to showcase at her Smash Sesh Events. \n*No refunds
URL:https://chivibe.com/event/foodsprungs-smash-sesh-side-piece-edition/
LOCATION:Frontier Chicago\, 1072 North Milwaukee Avenue\, Chicago\, IL\, 60642\, United States
ATTACH;FMTTYPE=image/jpeg:https://chivibe.com/wp-content/uploads/2026/02/bb2129dc15da785de1b208e744647308-dZ1GM6.tmp_.jpg
END:VEVENT
END:VCALENDAR