BEGIN:VCALENDAR
VERSION:2.0
PRODID:-//ChiVibe — The Local Event &amp; Collab Network - ECPv6.15.17//NONSGML v1.0//EN
CALSCALE:GREGORIAN
METHOD:PUBLISH
X-ORIGINAL-URL:https://chivibe.com
X-WR-CALDESC:Events for ChiVibe — The Local Event &amp; Collab Network
REFRESH-INTERVAL;VALUE=DURATION:PT1H
X-Robots-Tag:noindex
X-PUBLISHED-TTL:PT1H
BEGIN:VTIMEZONE
TZID:America/Chicago
BEGIN:DAYLIGHT
TZOFFSETFROM:-0600
TZOFFSETTO:-0500
TZNAME:CDT
DTSTART:20250309T080000
END:DAYLIGHT
BEGIN:STANDARD
TZOFFSETFROM:-0500
TZOFFSETTO:-0600
TZNAME:CST
DTSTART:20251102T070000
END:STANDARD
BEGIN:DAYLIGHT
TZOFFSETFROM:-0600
TZOFFSETTO:-0500
TZNAME:CDT
DTSTART:20260308T080000
END:DAYLIGHT
BEGIN:STANDARD
TZOFFSETFROM:-0500
TZOFFSETTO:-0600
TZNAME:CST
DTSTART:20261101T070000
END:STANDARD
BEGIN:DAYLIGHT
TZOFFSETFROM:-0600
TZOFFSETTO:-0500
TZNAME:CDT
DTSTART:20270314T080000
END:DAYLIGHT
BEGIN:STANDARD
TZOFFSETFROM:-0500
TZOFFSETTO:-0600
TZNAME:CST
DTSTART:20271107T070000
END:STANDARD
END:VTIMEZONE
BEGIN:VEVENT
DTSTART;TZID=America/Chicago:20260222T160000
DTEND;TZID=America/Chicago:20260222T190000
DTSTAMP:20260419T074748
CREATED:20260221T233406Z
LAST-MODIFIED:20260221T233406Z
UID:10000250-1771776000-1771786800@chivibe.com
SUMMARY:Talk Agave To Me
DESCRIPTION:Tequila and Mezcal tasting featuring premium agave brands and a cocktail competition with Chicago bartenders!\n\n\nJoin us for our third annual exclusive agave experience\, ‘Talk Agave To Me’ at Leña Brava! A night where premium tequila and mezcal meet the world-class creativity of Chicago’s top bartenders. \nPremium Tequila & Mezcal Tasting: Sample a curated selection of high-quality spirits. \nCocktail Competition: Chicago bartenders compete to create the best agave-based cocktail. Drink and vote for your favorite! \nEats: Street Tacos and Ceviche \nBartenders:EstereoPearl ClubLazy BirdLemonMoney GunCindy’sMeadowlarkBraseroThe Press Room \nAgave BrandsDon Julio TequilaUnion MezcalMijentaG4Casa NobleCasa DragonesMontelobosAmarasPelotonDel Maguey400 ConejosEspolón TequilaCentenarioWeber RnachNocheluna Sotol \nNon-AlcAlmaveRitual Agave \nOther Mexican SpiritsAbasoloLas Californias GinCondesa GinAncho ReyesNixtaBig Mich MicheladasCruz Blanca Cerveza \nMust be 21+ to attend
URL:https://chivibe.com/event/talk-agave-to-me/
LOCATION:Lena Brava\, 900 West Randolph Street\, Chicago\, IL\, 60607\, United States
ATTACH;FMTTYPE=image/jpeg:https://chivibe.com/wp-content/uploads/2026/02/2c768c4f7a188a4be6fc74dde912b0cb-0igVTJ.tmp_.jpg
END:VEVENT
END:VCALENDAR