BEGIN:VCALENDAR
VERSION:2.0
PRODID:-//ChiVibe — The Local Event &amp; Collab Network - ECPv6.15.17//NONSGML v1.0//EN
CALSCALE:GREGORIAN
METHOD:PUBLISH
X-WR-CALNAME:ChiVibe — The Local Event &amp; Collab Network
X-ORIGINAL-URL:https://chivibe.com
X-WR-CALDESC:Events for ChiVibe — The Local Event &amp; Collab Network
REFRESH-INTERVAL;VALUE=DURATION:PT1H
X-Robots-Tag:noindex
X-PUBLISHED-TTL:PT1H
BEGIN:VTIMEZONE
TZID:America/Chicago
BEGIN:DAYLIGHT
TZOFFSETFROM:-0600
TZOFFSETTO:-0500
TZNAME:CDT
DTSTART:20250309T080000
END:DAYLIGHT
BEGIN:STANDARD
TZOFFSETFROM:-0500
TZOFFSETTO:-0600
TZNAME:CST
DTSTART:20251102T070000
END:STANDARD
BEGIN:DAYLIGHT
TZOFFSETFROM:-0600
TZOFFSETTO:-0500
TZNAME:CDT
DTSTART:20260308T080000
END:DAYLIGHT
BEGIN:STANDARD
TZOFFSETFROM:-0500
TZOFFSETTO:-0600
TZNAME:CST
DTSTART:20261101T070000
END:STANDARD
BEGIN:DAYLIGHT
TZOFFSETFROM:-0600
TZOFFSETTO:-0500
TZNAME:CDT
DTSTART:20270314T080000
END:DAYLIGHT
BEGIN:STANDARD
TZOFFSETFROM:-0500
TZOFFSETTO:-0600
TZNAME:CST
DTSTART:20271107T070000
END:STANDARD
END:VTIMEZONE
BEGIN:VEVENT
DTSTART;TZID=America/Chicago:20260207T220000
DTEND;TZID=America/Chicago:20260208T020000
DTSTAMP:20260419T110429
CREATED:20260221T230802Z
LAST-MODIFIED:20260221T230804Z
UID:10000231-1770501600-1770516000@chivibe.com
SUMMARY:SILENT "LOVERS & FRIENDS" CHICAGO (R&B\, Twerk & Slow Jams)
DESCRIPTION:Get ready for 3 channels of R&B\, Trap & Twerk vibes at Row 24.  Celebrate love\, good music & great energy. Grab your tickets now!\n\n\nSILENT “LOVERS & FRIENDS” CHICAGO (R&B\, Twerk & Slow Jams)\n \nIt’s giving nostalgia and neck-grabs. Wall-to-wall R&B anthems you grew up on\, slow-grind classics you still feel\, and just enough twerk to keep it dangerous. Ladies run the room while the DJs flip lovers’ anthems into sing-along moments and late-night slow-downs. It’s Lovers & Friends all night\, Chicago. \nSaturday\, February 7th 2026 | 10 PM – 2 AMRow 24\, 2411 S Michigan Ave Chicago\, IL21+ | Headphones included | Full bar available \n \n3 channels = choose your flavor\n\n🔵 Blue — Lovers Link-Up: 90s-00s R&B love songs\, duets\, bedroom cuts. Think Usher\, Monica & Brandy\, Jagged Edge\, Ashanti & Ja Rule\, H-Town.\n🔴 Red — Friends Who Sing Loud: Millennium anthems\, remixes\, mid-tempo grooves. Mary J\, SWV\, Beyoncé edits\, Summer\, SZA\, Brent.\n🟢 Green — Twerk & Slow Grind: Bounce\, Jersey flips\, sneaky tempo drops. Megan\, GloRilla\, City Girls\, then melt to 72 BPM when the lights get low.\n\n \nWhy this goes viral every time\n\nHeadphones = your world your rules. Switch channels any time\nSing-at-the-top-of-your-lungs energy without blowing your voice\nGrown & sexy crowd\, ladies front and center\nPhoto-ready moments all night\n\n\nValid ID required 21+\nFull bar on deck\nDoors open 10 PM. Arrive early to skip the line and catch the opening sets\nRespect the vibe. No drama just love and friends\n\n \nBirthdays\, groups & celebrations\nCelebrating a queen or rolling deep with the crew. We got you. For tables birthdays and large groups text or call 312-380-9656 or email info@urbanfetes.com. \nPull up with your friends leave with your voice gone. Chicago we’re locking in for a Lovers & Friends night you’ll feel in your chest. RSVP now and tell the group chat you found the plan.
URL:https://chivibe.com/event/silent-lovers-friends-chicago-rb-twerk-slow-jams/
LOCATION:Row 24 Chicago\, 2411 South Michigan Avenue\, Chicago\, IL\, 60616\, United States
ATTACH;FMTTYPE=image/jpeg:https://chivibe.com/wp-content/uploads/2026/02/bf0343b1247d4c8ae759ac9047e266f0-N2PcUi.tmp_.jpg
END:VEVENT
END:VCALENDAR